BEGIN:VCALENDAR
VERSION:2.0
PRODID:-//Plone.org//NONSGML plone.app.event//EN
X-WR-TIMEZONE:Europe/Vienna
BEGIN:VEVENT
SUMMARY:BURUHAUNDI TAILERRA FAMILIAN
DTSTART;TZID=Europe/Vienna;VALUE=DATE-TIME:20240920T180000
DTEND;TZID=Europe/Vienna;VALUE=DATE-TIME:20240920T200000
DTSTAMP;VALUE=DATE-TIME:20260421T103318Z
UID:cfbae52f28934e23882a1fcfaefd1faf@aretxabaletaplone
CATEGORIES:TAILERRA FAMILIAN
CREATED;VALUE=DATE-TIME:20240802T071657Z
LAST-MODIFIED;VALUE=DATE-TIME:20250828T060652Z
LOCATION:Arkupe kultur etxea
URL:https://www.aretxabaleta.eus/eu/arkupe/agenda/buruhaundi-tailerra-fami
 lian-2
END:VEVENT
BEGIN:VTIMEZONE
TZID:Europe/Vienna
X-LIC-LOCATION:Europe/Vienna
BEGIN:DAYLIGHT
DTSTART;VALUE=DATE-TIME:20240331T030000
TZNAME:CEST
TZOFFSETFROM:+0100
TZOFFSETTO:+0200
END:DAYLIGHT
END:VTIMEZONE
END:VCALENDAR
