BEGIN:VCALENDAR
VERSION:2.0
PRODID:-//Plone.org//NONSGML plone.app.event//EN
X-WR-TIMEZONE:Europe/Vienna
BEGIN:VEVENT
SUMMARY:ARETXABALETAKO TOMATEA
DTSTART;TZID=Europe/Vienna;VALUE=DATE-TIME:20240915T093000
DTEND;TZID=Europe/Vienna;VALUE=DATE-TIME:20240915T133000
DTSTAMP;VALUE=DATE-TIME:20260419T154734Z
UID:1e60093e02e64b57bed73427fef273d2@aretxabaletaplone
CATEGORIES:AZOKA
CREATED;VALUE=DATE-TIME:20240730T105409Z
DESCRIPTION:Azoka eta Euskal Herriko bertako tomatearen lehiaketa (II. edi
 zioa)
LAST-MODIFIED;VALUE=DATE-TIME:20250828T060651Z
LOCATION:Durana kalea
URL:https://www.aretxabaleta.eus/eu/arkupe/agenda/aretxabaletako-tomatea
END:VEVENT
BEGIN:VTIMEZONE
TZID:Europe/Vienna
X-LIC-LOCATION:Europe/Vienna
BEGIN:DAYLIGHT
DTSTART;VALUE=DATE-TIME:20240331T030000
TZNAME:CEST
TZOFFSETFROM:+0100
TZOFFSETTO:+0200
END:DAYLIGHT
END:VTIMEZONE
END:VCALENDAR
