BEGIN:VCALENDAR
VERSION:2.0
PRODID:-//Plone.org//NONSGML plone.app.event//EN
X-WR-TIMEZONE:Europe/Vienna
BEGIN:VEVENT
SUMMARY:JON MIRANDE "1925 – 2025"
DTSTART;TZID=Europe/Vienna;VALUE=DATE-TIME:20260413T110000
DTEND;TZID=Europe/Vienna;VALUE=DATE-TIME:20260430T200000
DTSTAMP;VALUE=DATE-TIME:20260425T144838Z
UID:ea5c605ce0a0442d9d688640a09e0c51@aretxabaletaplone
CATEGORIES:ERAKUSKETA
CREATED;VALUE=DATE-TIME:20260306T144213Z
LAST-MODIFIED;VALUE=DATE-TIME:20260401T115924Z
LOCATION:Erakusketa Aretoa
URL:https://www.aretxabaleta.eus/eu/arkupe/agenda/jon-mirande-1925-2013-20
 25
END:VEVENT
BEGIN:VEVENT
SUMMARY:LA MAJA Y LA MONA
DTSTART;TZID=Europe/Vienna;VALUE=DATE-TIME:20260425T190000
DTEND;TZID=Europe/Vienna;VALUE=DATE-TIME:20260425T200000
DTSTAMP;VALUE=DATE-TIME:20260425T144838Z
UID:01726c84b0b642d294fa6ed536fe7c5e@aretxabaletaplone
CATEGORIES:ANTZERKIA 
CREATED;VALUE=DATE-TIME:20260311T122955Z
LAST-MODIFIED;VALUE=DATE-TIME:20260330T061405Z
LOCATION:Zaraia Aretoa
URL:https://www.aretxabaleta.eus/eu/arkupe/agenda/la-maja-y-la-mona
END:VEVENT
BEGIN:VEVENT
SUMMARY:KIMU
DTSTART;TZID=Europe/Vienna;VALUE=DATE-TIME:20260426T170000
DTEND;TZID=Europe/Vienna;VALUE=DATE-TIME:20260426T180000
DTSTAMP;VALUE=DATE-TIME:20260425T144838Z
UID:4577255467d641b9811a1f765c1a12db@aretxabaletaplone
CATEGORIES:HAURRENTZAKO ANTZERKIA
CREATED;VALUE=DATE-TIME:20260227T133028Z
LAST-MODIFIED;VALUE=DATE-TIME:20260330T060957Z
LOCATION:Zaraia Aretoa
URL:https://www.aretxabaleta.eus/eu/arkupe/agenda/kimu
END:VEVENT
BEGIN:VEVENT
SUMMARY:BURUHANDI TAILERRA
DTSTART;TZID=Europe/Vienna;VALUE=DATE-TIME:20260508T170000
DTEND;TZID=Europe/Vienna;VALUE=DATE-TIME:20260508T190000
DTSTAMP;VALUE=DATE-TIME:20260425T144838Z
UID:b1c8d85b2d6e4cfe8f14bf64b314dd95@aretxabaletaplone
CATEGORIES:FAMILIENTZAKO TAILERRA
CREATED;VALUE=DATE-TIME:20260302T131038Z
LAST-MODIFIED;VALUE=DATE-TIME:20260330T061215Z
LOCATION:Arkupe Kultur Etxea
URL:https://www.aretxabaleta.eus/eu/arkupe/agenda/buruhandi-tailerra-1
END:VEVENT
BEGIN:VTIMEZONE
TZID:Europe/Vienna
X-LIC-LOCATION:Europe/Vienna
BEGIN:DAYLIGHT
DTSTART;VALUE=DATE-TIME:20260329T030000
TZNAME:CEST
TZOFFSETFROM:+0100
TZOFFSETTO:+0200
END:DAYLIGHT
END:VTIMEZONE
END:VCALENDAR
