BEGIN:VCALENDAR
VERSION:2.0
PRODID:-//Plone.org//NONSGML plone.app.event//EN
X-WR-TIMEZONE:Europe/Vienna
BEGIN:VEVENT
SUMMARY:Toc Toc
DTSTART;TZID=Europe/Vienna;VALUE=DATE-TIME:20171201T220000
DTEND;TZID=Europe/Vienna;VALUE=DATE-TIME:20171204T173000
DTSTAMP;VALUE=DATE-TIME:20260420T094222Z
UID:b3eecd4ee5964f28aeaa6662bb7ff0ba@aretxabaletaplone
CATEGORIES:CINE COMERCIAL
CREATED;VALUE=DATE-TIME:20171129T101052Z
LAST-MODIFIED;VALUE=DATE-TIME:20171201T120818Z
LOCATION:Zaraia aretoa
URL:https://www.aretxabaleta.eus/es/arkupe/agenda/toc-toc
END:VEVENT
BEGIN:VTIMEZONE
TZID:Europe/Vienna
X-LIC-LOCATION:Europe/Vienna
BEGIN:STANDARD
DTSTART;VALUE=DATE-TIME:20171029T020000
TZNAME:CET
TZOFFSETFROM:+0200
TZOFFSETTO:+0100
END:STANDARD
END:VTIMEZONE
END:VCALENDAR
