BEGIN:VCALENDAR
VERSION:2.0
PRODID:-//Plone.org//NONSGML plone.app.event//EN
X-WR-TIMEZONE:Europe/Vienna
BEGIN:VEVENT
SUMMARY:PATATA TROPIKALA: Amona Joxeparen istorioak
DTSTART;TZID=Europe/Vienna;VALUE=DATE-TIME:20170830T183000
DTEND;TZID=Europe/Vienna;VALUE=DATE-TIME:20170830T193000
DTSTAMP;VALUE=DATE-TIME:20260421T100839Z
UID:a90a0814983948a3b97462f9a9134804@aretxabaletaplone
CATEGORIES:TEATRO DE CALLE
CREATED;VALUE=DATE-TIME:20170720T112851Z
LAST-MODIFIED;VALUE=DATE-TIME:20170720T112952Z
LOCATION:Herriko Plaza
URL:https://www.aretxabaleta.eus/es/arkupe/agenda/patata-tropikala-amona-j
 oxeparen-istorioak
END:VEVENT
BEGIN:VTIMEZONE
TZID:Europe/Vienna
X-LIC-LOCATION:Europe/Vienna
BEGIN:DAYLIGHT
DTSTART;VALUE=DATE-TIME:20170326T030000
TZNAME:CEST
TZOFFSETFROM:+0100
TZOFFSETTO:+0200
END:DAYLIGHT
END:VTIMEZONE
END:VCALENDAR
