BEGIN:VCALENDAR
VERSION:2.0
PRODID:-//Plone.org//NONSGML plone.app.event//EN
X-WR-TIMEZONE:Europe/Vienna
BEGIN:VEVENT
SUMMARY:Hitz-Artea
DTSTART;TZID=Europe/Vienna;VALUE=DATE-TIME:20210430T190000
DTEND;TZID=Europe/Vienna;VALUE=DATE-TIME:20210430T200000
DTSTAMP;VALUE=DATE-TIME:20260425T033747Z
UID:22297271a7f942b584ea236b5b607ac3@aretxabaletaplone
CATEGORIES:ILUSTRACIÓN
CREATED;VALUE=DATE-TIME:20210326T114503Z
LAST-MODIFIED;VALUE=DATE-TIME:20210426T075040Z
LOCATION:Zaraia aretoa
URL:https://www.aretxabaleta.eus/es/arkupe/agenda/hitz-artea
END:VEVENT
BEGIN:VTIMEZONE
TZID:Europe/Vienna
X-LIC-LOCATION:Europe/Vienna
BEGIN:DAYLIGHT
DTSTART;VALUE=DATE-TIME:20210328T030000
TZNAME:CEST
TZOFFSETFROM:+0100
TZOFFSETTO:+0200
END:DAYLIGHT
END:VTIMEZONE
END:VCALENDAR
